BEGIN:VCALENDAR
VERSION:2.0
PRODID:-//peoplesmemorial.org//NONSGML kigkonsult.se iCalcreator 2.30.10//
CALSCALE:GREGORIAN
METHOD:PUBLISH
UID:33736f05-e781-4cd1-908b-9cc3b6cd94a4
X-WR-CALDESC:The second part of a three-part workshop series\, Ducks in a R
 ow. Join us in-person at Asian Counseling & Referral Service for one or al
 l three of the classes! This event is free and open to the ACRS members\, 
 and will be presented in English with live interpretation in Mandarin\, Ca
 ntonese\, and Vietnamese in partnership with the Seattle Public Library. 
 \n\nHave you made your end of life plans? When it comes to choosing funera
 l options\, here in Washington State we have more available to us than cre
 mation or burial. Selecting funeral arrangements is unique to everyone\, b
 ased on their values\, resources\, and budget. \n\nPlease join us for an i
 n-depth presentation lead by Rachel LeBlanc from People's Memorial Associa
 tion\, who will discuss the five legal options: cremation\, burial (conven
 tional and green/natural)\, alkaline hydrolysis (aquamation/water crematio
 n)\, natural organic reduction (terramation/human composting)\, and full b
 ody donation. \n\nFind clarity on what's right for you with information ab
 out factors to consider and average costs\, as well as necessary paperwork
 .  \n\nThis event is for ACRS members and their guests only.\n------------
 --------------------------------------------------------------------------
 --------------------------------\nPeople's Memorial Association is a Seatt
 le-based nonprofit dedicated to funeral education and advocacy since 1939.
 \n\nAsian Counseling and Referral Service (ACRS) is a nonprofit working fo
 r social justice and offering a broad array of behavioral health programs\
 , human services and civic engagement activities for Asian and Native Hawa
 iian/Pacific Islanders and other communities in King County and beyond.
X-WR-RELCALID:af25f4693aa888a3c3b4e2f4c3bb7f55
X-WR-TIMEZONE:America/Los_Angeles
BEGIN:VTIMEZONE
TZID:America/Los_Angeles
BEGIN:STANDARD
TZNAME:PST
DTSTART:20251102T020000
TZOFFSETFROM:-0700
TZOFFSETTO:-0800
RDATE:20261101T020000
RDATE:20271107T020000
END:STANDARD
BEGIN:DAYLIGHT
TZNAME:PDT
DTSTART:20260308T020000
TZOFFSETFROM:-0800
TZOFFSETTO:-0700
RDATE:20270314T020000
END:DAYLIGHT
END:VTIMEZONE
BEGIN:VEVENT
UID:d1b69f8d-4649-45e1-b31d-a282251c71e3
DTSTAMP:20260423T180627Z
DESCRIPTION:The second part of a three-part workshop series\, Ducks in a Ro
 w. Join us in-person at Asian Counseling & Referral Service for one or all
  three of the classes! This event is free and open to the ACRS members\, a
 nd will be presented in English with live interpretation in Mandarin\, Can
 tonese\, and Vietnamese in partnership with the Seattle Public Library. \n
 \nHave you made your end of life plans? When it comes to choosing funeral 
 options\, here in Washington State we have more available to us than crema
 tion or burial. Selecting funeral arrangements is unique to everyone\, bas
 ed on their values\, resources\, and budget. \n\nPlease join us for an in-
 depth presentation lead by Rachel LeBlanc from People's Memorial Associati
 on\, who will discuss the five legal options: cremation\, burial (conventi
 onal and green/natural)\, alkaline hydrolysis (aquamation/water cremation)
 \, natural organic reduction (terramation/human composting)\, and full bod
 y donation. \n\nFind clarity on what's right for you with information abou
 t factors to consider and average costs\, as well as necessary paperwork. 
  \n\nThis event is for ACRS members and their guests only.\n--------------
 --------------------------------------------------------------------------
 ------------------------------\nPeople's Memorial Association is a Seattle
 -based nonprofit dedicated to funeral education and advocacy since 1939.\n
 \nAsian Counseling and Referral Service (ACRS) is a nonprofit working for 
 social justice and offering a broad array of behavioral health programs\, 
 human services and civic engagement activities for Asian and Native Hawaii
 an/Pacific Islanders and other communities in King County and beyond.
DTSTART;TZID=America/Los_Angeles:20260616T123000
DTEND;TZID=America/Los_Angeles:20260616T140000
LOCATION:ACRS: Asian Counseling & Referral Service\, 3639 Martin Luther Kin
 g Jr Way S\, Seattle\, WA 98144 US
SUMMARY:Seattle: Ducks in a Row -- Funeral Options (Chinese & Vietnamese) (
 Closed: ACRS Members Only)
END:VEVENT
END:VCALENDAR
