BEGIN:VCALENDAR
VERSION:2.0
PRODID:-//peoplesmemorial.org//NONSGML kigkonsult.se iCalcreator 2.30.10//
CALSCALE:GREGORIAN
METHOD:PUBLISH
UID:077bef0d-7986-45e9-9e45-a921fe2bcef0
X-WR-CALDESC:Join PMA and representatives from fellow end-of-life organizat
 ions to discuss all matters of planning ahead. This casual coffee hour wil
 l feature a panel to take questions from attendees. \n\nLearn how to plan 
 ahead with confidence. Explore key steps\, important documents\, and local
  resources for end-of-life planning.\n\nAnyone is welcome to attend! Older
  adults who live in North Seattle are especially encouraged to come. This 
 event will be interpreted live in Mandarin\, Cantonese\, and Spanish.
X-WR-RELCALID:dcaa285f81a51c93c08264b1a3b4dc9c
X-WR-TIMEZONE:America/Los_Angeles
BEGIN:VTIMEZONE
TZID:America/Los_Angeles
BEGIN:STANDARD
TZNAME:PST
DTSTART:20251102T020000
TZOFFSETFROM:-0700
TZOFFSETTO:-0800
RDATE:20261101T020000
RDATE:20271107T020000
END:STANDARD
BEGIN:DAYLIGHT
TZNAME:PDT
DTSTART:20260308T020000
TZOFFSETFROM:-0800
TZOFFSETTO:-0700
RDATE:20270314T020000
END:DAYLIGHT
END:VTIMEZONE
BEGIN:VEVENT
UID:a19b7bcb-181b-42d3-930a-5a80971fba54
DTSTAMP:20260423T180504Z
DESCRIPTION:Join PMA and representatives from fellow end-of-life organizati
 ons to discuss all matters of planning ahead. This casual coffee hour will
  feature a panel to take questions from attendees. \n\nLearn how to plan a
 head with confidence. Explore key steps\, important documents\, and local 
 resources for end-of-life planning.\n\nAnyone is welcome to attend! Older 
 adults who live in North Seattle are especially encouraged to come. This e
 vent will be interpreted live in Mandarin\, Cantonese\, and Spanish.
DTSTART;TZID=America/Los_Angeles:20260515T100000
DTEND;TZID=America/Los_Angeles:20260515T110000
LOCATION:Lamb of God Lutheran Church\, 12509 27th Ave NE\, Seattle\, WA 981
 25 US
SUMMARY:Seattle: Civic Coffee Hour\, hosted by Age Friendly Seattle (Public
 )
END:VEVENT
END:VCALENDAR
